BEGIN:VCALENDAR
VERSION:2.0
PRODID:-//Newton Arlosh Village - ECPv6.15.20//NONSGML v1.0//EN
CALSCALE:GREGORIAN
METHOD:PUBLISH
X-ORIGINAL-URL:https://www.newton-arlosh.co.uk
X-WR-CALDESC:Events for Newton Arlosh Village
REFRESH-INTERVAL;VALUE=DURATION:PT1H
X-Robots-Tag:noindex
X-PUBLISHED-TTL:PT1H
BEGIN:VTIMEZONE
TZID:Europe/London
BEGIN:DAYLIGHT
TZOFFSETFROM:+0000
TZOFFSETTO:+0100
TZNAME:BST
DTSTART:20250330T010000
END:DAYLIGHT
BEGIN:STANDARD
TZOFFSETFROM:+0100
TZOFFSETTO:+0000
TZNAME:GMT
DTSTART:20251026T010000
END:STANDARD
BEGIN:DAYLIGHT
TZOFFSETFROM:+0000
TZOFFSETTO:+0100
TZNAME:BST
DTSTART:20260329T010000
END:DAYLIGHT
BEGIN:STANDARD
TZOFFSETFROM:+0100
TZOFFSETTO:+0000
TZNAME:GMT
DTSTART:20261025T010000
END:STANDARD
BEGIN:DAYLIGHT
TZOFFSETFROM:+0000
TZOFFSETTO:+0100
TZNAME:BST
DTSTART:20270328T010000
END:DAYLIGHT
BEGIN:STANDARD
TZOFFSETFROM:+0100
TZOFFSETTO:+0000
TZNAME:GMT
DTSTART:20271031T010000
END:STANDARD
END:VTIMEZONE
BEGIN:VEVENT
DTSTART;TZID=Europe/London:20260320T190000
DTEND;TZID=Europe/London:20260320T210000
DTSTAMP:20260422T005357
CREATED:20260107T161556Z
LAST-MODIFIED:20260107T161556Z
UID:10000021-1774033200-1774040400@www.newton-arlosh.co.uk
SUMMARY:History Talk with John Little
DESCRIPTION:A history talk by historian John Little on ‘The Testimony of Sal Madges’
URL:https://www.newton-arlosh.co.uk/event/history-talk-with-john-little/
LOCATION:The Parish Hall\,\, Newton Arlosh\, Wigton\, Cumbria\, CA7 5ET\, United Kingdom
END:VEVENT
BEGIN:VEVENT
DTSTART;TZID=Europe/London:20260327T190000
DTEND;TZID=Europe/London:20260327T220000
DTSTAMP:20260422T005357
CREATED:20260107T161717Z
LAST-MODIFIED:20260107T161717Z
UID:10000022-1774638000-1774648800@www.newton-arlosh.co.uk
SUMMARY:Easter Bingo
DESCRIPTION:Our ever-popular Easter Bingo.
URL:https://www.newton-arlosh.co.uk/event/easter-bingo/
LOCATION:The Parish Hall\,\, Newton Arlosh\, Wigton\, Cumbria\, CA7 5ET\, United Kingdom
END:VEVENT
END:VCALENDAR