BEGIN:VCALENDAR
VERSION:2.0
PRODID:-//Newton Arlosh Village - ECPv6.15.20//NONSGML v1.0//EN
CALSCALE:GREGORIAN
METHOD:PUBLISH
X-WR-CALNAME:Newton Arlosh Village
X-ORIGINAL-URL:https://www.newton-arlosh.co.uk
X-WR-CALDESC:Events for Newton Arlosh Village
REFRESH-INTERVAL;VALUE=DURATION:PT1H
X-Robots-Tag:noindex
X-PUBLISHED-TTL:PT1H
BEGIN:VTIMEZONE
TZID:Europe/London
BEGIN:DAYLIGHT
TZOFFSETFROM:+0000
TZOFFSETTO:+0100
TZNAME:BST
DTSTART:20230326T010000
END:DAYLIGHT
BEGIN:STANDARD
TZOFFSETFROM:+0100
TZOFFSETTO:+0000
TZNAME:GMT
DTSTART:20231029T010000
END:STANDARD
BEGIN:DAYLIGHT
TZOFFSETFROM:+0000
TZOFFSETTO:+0100
TZNAME:BST
DTSTART:20240331T010000
END:DAYLIGHT
BEGIN:STANDARD
TZOFFSETFROM:+0100
TZOFFSETTO:+0000
TZNAME:GMT
DTSTART:20241027T010000
END:STANDARD
BEGIN:DAYLIGHT
TZOFFSETFROM:+0000
TZOFFSETTO:+0100
TZNAME:BST
DTSTART:20250330T010000
END:DAYLIGHT
BEGIN:STANDARD
TZOFFSETFROM:+0100
TZOFFSETTO:+0000
TZNAME:GMT
DTSTART:20251026T010000
END:STANDARD
END:VTIMEZONE
BEGIN:VEVENT
DTSTART;TZID=Europe/London:20240906T200000
DTEND;TZID=Europe/London:20240906T223000
DTSTAMP:20260422T024235
CREATED:20240709T121700Z
LAST-MODIFIED:20240709T121700Z
UID:10000005-1725652800-1725661800@www.newton-arlosh.co.uk
SUMMARY:Family quiz and pizza
DESCRIPTION:
URL:https://www.newton-arlosh.co.uk/event/family-quiz-and-pizza/
LOCATION:The Parish Hall\,\, Newton Arlosh\, Wigton\, Cumbria\, CA7 5ET\, United Kingdom
END:VEVENT
BEGIN:VEVENT
DTSTART;TZID=Europe/London:20240826T113000
DTEND;TZID=Europe/London:20240826T123000
DTSTAMP:20260422T024235
CREATED:20240709T121409Z
LAST-MODIFIED:20240825T091316Z
UID:10000003-1724671800-1724675400@www.newton-arlosh.co.uk
SUMMARY:Coffee Morning - cancelled
DESCRIPTION:
URL:https://www.newton-arlosh.co.uk/event/coffee-morning-3/
LOCATION:The Parish Hall\,\, Newton Arlosh\, Wigton\, Cumbria\, CA7 5ET\, United Kingdom
END:VEVENT
BEGIN:VEVENT
DTSTART;TZID=Europe/London:20240726T113000
DTEND;TZID=Europe/London:20240726T123000
DTSTAMP:20260422T024235
CREATED:20240709T121344Z
LAST-MODIFIED:20240709T121555Z
UID:10000002-1721993400-1721997000@www.newton-arlosh.co.uk
SUMMARY:Coffee Morning
DESCRIPTION:
URL:https://www.newton-arlosh.co.uk/event/coffee-morning-2/
LOCATION:The Parish Hall\,\, Newton Arlosh\, Wigton\, Cumbria\, CA7 5ET\, United Kingdom
END:VEVENT
END:VCALENDAR