BEGIN:VCALENDAR
VERSION:2.0
PRODID:-//Newton Arlosh Village - ECPv6.15.20//NONSGML v1.0//EN
CALSCALE:GREGORIAN
METHOD:PUBLISH
X-WR-CALNAME:Newton Arlosh Village
X-ORIGINAL-URL:https://www.newton-arlosh.co.uk
X-WR-CALDESC:Events for Newton Arlosh Village
REFRESH-INTERVAL;VALUE=DURATION:PT1H
X-Robots-Tag:noindex
X-PUBLISHED-TTL:PT1H
BEGIN:VTIMEZONE
TZID:Europe/London
BEGIN:DAYLIGHT
TZOFFSETFROM:+0000
TZOFFSETTO:+0100
TZNAME:BST
DTSTART:20230326T010000
END:DAYLIGHT
BEGIN:STANDARD
TZOFFSETFROM:+0100
TZOFFSETTO:+0000
TZNAME:GMT
DTSTART:20231029T010000
END:STANDARD
BEGIN:DAYLIGHT
TZOFFSETFROM:+0000
TZOFFSETTO:+0100
TZNAME:BST
DTSTART:20240331T010000
END:DAYLIGHT
BEGIN:STANDARD
TZOFFSETFROM:+0100
TZOFFSETTO:+0000
TZNAME:GMT
DTSTART:20241027T010000
END:STANDARD
BEGIN:DAYLIGHT
TZOFFSETFROM:+0000
TZOFFSETTO:+0100
TZNAME:BST
DTSTART:20250330T010000
END:DAYLIGHT
BEGIN:STANDARD
TZOFFSETFROM:+0100
TZOFFSETTO:+0000
TZNAME:GMT
DTSTART:20251026T010000
END:STANDARD
END:VTIMEZONE
BEGIN:VEVENT
DTSTART;TZID=Europe/London:20241116T100000
DTEND;TZID=Europe/London:20241116T120000
DTSTAMP:20260422T153152
CREATED:20241007T130346Z
LAST-MODIFIED:20241007T130346Z
UID:10000014-1731751200-1731758400@www.newton-arlosh.co.uk
SUMMARY:Table top sale
DESCRIPTION:
URL:https://www.newton-arlosh.co.uk/event/table-top-sale/
LOCATION:The Parish Hall\,\, Newton Arlosh\, Wigton\, Cumbria\, CA7 5ET\, United Kingdom
ORGANIZER;CN="David Hopkinson":MAILTO:david@davidhopkinsonifa.co.uk
END:VEVENT
BEGIN:VEVENT
DTSTART;TZID=Europe/London:20241125T103000
DTEND;TZID=Europe/London:20241125T113000
DTSTAMP:20260422T153152
CREATED:20240709T121825Z
LAST-MODIFIED:20240709T121825Z
UID:10000008-1732530600-1732534200@www.newton-arlosh.co.uk
SUMMARY:Coffee Morning
DESCRIPTION:
URL:https://www.newton-arlosh.co.uk/event/coffee-morning-6/
LOCATION:The Parish Hall\,\, Newton Arlosh\, Wigton\, Cumbria\, CA7 5ET\, United Kingdom
END:VEVENT
BEGIN:VEVENT
DTSTART;TZID=Europe/London:20241129T190000
DTEND;TZID=Europe/London:20241129T213000
DTSTAMP:20260422T153152
CREATED:20240709T121912Z
LAST-MODIFIED:20240709T122025Z
UID:10000009-1732906800-1732915800@www.newton-arlosh.co.uk
SUMMARY:Christmas Bingo
DESCRIPTION:
URL:https://www.newton-arlosh.co.uk/event/christmas-bingo/
LOCATION:The Parish Hall\,\, Newton Arlosh\, Wigton\, Cumbria\, CA7 5ET\, United Kingdom
END:VEVENT
END:VCALENDAR