BEGIN:VCALENDAR
VERSION:2.0
PRODID:-//Newton Arlosh Village - ECPv6.15.20//NONSGML v1.0//EN
CALSCALE:GREGORIAN
METHOD:PUBLISH
X-WR-CALNAME:Newton Arlosh Village
X-ORIGINAL-URL:https://www.newton-arlosh.co.uk
X-WR-CALDESC:Events for Newton Arlosh Village
REFRESH-INTERVAL;VALUE=DURATION:PT1H
X-Robots-Tag:noindex
X-PUBLISHED-TTL:PT1H
BEGIN:VTIMEZONE
TZID:Europe/London
BEGIN:DAYLIGHT
TZOFFSETFROM:+0000
TZOFFSETTO:+0100
TZNAME:BST
DTSTART:20230326T010000
END:DAYLIGHT
BEGIN:STANDARD
TZOFFSETFROM:+0100
TZOFFSETTO:+0000
TZNAME:GMT
DTSTART:20231029T010000
END:STANDARD
BEGIN:DAYLIGHT
TZOFFSETFROM:+0000
TZOFFSETTO:+0100
TZNAME:BST
DTSTART:20240331T010000
END:DAYLIGHT
BEGIN:STANDARD
TZOFFSETFROM:+0100
TZOFFSETTO:+0000
TZNAME:GMT
DTSTART:20241027T010000
END:STANDARD
BEGIN:DAYLIGHT
TZOFFSETFROM:+0000
TZOFFSETTO:+0100
TZNAME:BST
DTSTART:20250330T010000
END:DAYLIGHT
BEGIN:STANDARD
TZOFFSETFROM:+0100
TZOFFSETTO:+0000
TZNAME:GMT
DTSTART:20251026T010000
END:STANDARD
END:VTIMEZONE
BEGIN:VEVENT
DTSTART;TZID=Europe/London:20241207T140000
DTEND;TZID=Europe/London:20241207T170000
DTSTAMP:20260422T135952
CREATED:20240709T122002Z
LAST-MODIFIED:20240709T122002Z
UID:10000010-1733580000-1733590800@www.newton-arlosh.co.uk
SUMMARY:Children's Christmas party
DESCRIPTION:
URL:https://www.newton-arlosh.co.uk/event/childrens-christmas-party/
LOCATION:The Parish Hall\,\, Newton Arlosh\, Wigton\, Cumbria\, CA7 5ET\, United Kingdom
END:VEVENT
BEGIN:VEVENT
DTSTART;TZID=Europe/London:20241214T200000
DTEND;TZID=Europe/London:20241214T223000
DTSTAMP:20260422T135952
CREATED:20240709T122109Z
LAST-MODIFIED:20240709T122109Z
UID:10000011-1734206400-1734215400@www.newton-arlosh.co.uk
SUMMARY:Christmas Party
DESCRIPTION:
URL:https://www.newton-arlosh.co.uk/event/christmas-party-1/
LOCATION:The Parish Hall\,\, Newton Arlosh\, Wigton\, Cumbria\, CA7 5ET\, United Kingdom
END:VEVENT
BEGIN:VEVENT
DTSTART;TZID=Europe/London:20241230T103000
DTEND;TZID=Europe/London:20241230T113000
DTSTAMP:20260422T135952
CREATED:20240709T121203Z
LAST-MODIFIED:20240709T121520Z
UID:10000001-1735554600-1735558200@www.newton-arlosh.co.uk
SUMMARY:Coffee Morning
DESCRIPTION:
URL:https://www.newton-arlosh.co.uk/event/coffee-morning/
LOCATION:The Parish Hall\,\, Newton Arlosh\, Wigton\, Cumbria\, CA7 5ET\, United Kingdom
END:VEVENT
END:VCALENDAR